BEGIN:VCALENDAR
VERSION:2.0
PRODID:-//Siedlervereinigung Heimaterde e. V. 1919 - ECPv6.15.18//NONSGML v1.0//EN
CALSCALE:GREGORIAN
METHOD:PUBLISH
X-ORIGINAL-URL:https://svh1919.de
X-WR-CALDESC:Veranstaltungen für Siedlervereinigung Heimaterde e. V. 1919
REFRESH-INTERVAL;VALUE=DURATION:PT1H
X-Robots-Tag:noindex
X-PUBLISHED-TTL:PT1H
BEGIN:VTIMEZONE
TZID:Europe/Berlin
BEGIN:DAYLIGHT
TZOFFSETFROM:+0100
TZOFFSETTO:+0200
TZNAME:CEST
DTSTART:20160327T010000
END:DAYLIGHT
BEGIN:STANDARD
TZOFFSETFROM:+0200
TZOFFSETTO:+0100
TZNAME:CET
DTSTART:20161030T010000
END:STANDARD
BEGIN:DAYLIGHT
TZOFFSETFROM:+0100
TZOFFSETTO:+0200
TZNAME:CEST
DTSTART:20170326T010000
END:DAYLIGHT
BEGIN:STANDARD
TZOFFSETFROM:+0200
TZOFFSETTO:+0100
TZNAME:CET
DTSTART:20171029T010000
END:STANDARD
BEGIN:DAYLIGHT
TZOFFSETFROM:+0100
TZOFFSETTO:+0200
TZNAME:CEST
DTSTART:20180325T010000
END:DAYLIGHT
BEGIN:STANDARD
TZOFFSETFROM:+0200
TZOFFSETTO:+0100
TZNAME:CET
DTSTART:20181028T010000
END:STANDARD
END:VTIMEZONE
BEGIN:VEVENT
DTSTART;TZID=Europe/Berlin:20170316T190000
DTEND;TZID=Europe/Berlin:20170316T190000
DTSTAMP:20260424T081349
CREATED:20161206T214201Z
LAST-MODIFIED:20161214T170125Z
UID:946-1489690800-1489690800@svh1919.de
SUMMARY:Jahreshauptversammlung der Siedlervereinigung Heimaterde
DESCRIPTION:
URL:https://svh1919.de/veranstaltungen/jahreshauptversammlung-der-siedlervereinigung-heimaterde/
LOCATION:Krug zur Heimaterde\, Kolumbusstraße 110\, Mülheim an der Ruhr\, 45472\, Deutschland
END:VEVENT
BEGIN:VEVENT
DTSTART;TZID=Europe/Berlin:20170318T100000
DTEND;TZID=Europe/Berlin:20170318T100000
DTSTAMP:20260424T081349
CREATED:20161206T214451Z
LAST-MODIFIED:20170309T093723Z
UID:947-1489831200-1489831200@svh1919.de
SUMMARY:Reinigung der Siepentäler
DESCRIPTION:die Siedlervereinigung Heimaterde beabsichtigt\, am Samstag\, dem 18. März 2017\, in den Siepentälern aufzuräumen. Wir laden Sie zum Mitmachen herzlich ein. Treffpunkt ist 10.00 h am Gänsereiterteich. Wir denken\, mit rd. 2 Stunden Arbeit auszukommen.\nFolgendes ist vorgesehen: \n\nEntfernung des Mülls aus dem Siepentälern Kolumbusstraße und Finkenkamp\nsowie an der Max-Halbach-Straße und rund um den Sportplatz\nBeseitigung der Verstopfungen im Lauf der Wackelsbeck\n\nDas Arbeitsgerät müssen wir selbst mitbringen. Benötigt werden vor allem Harken\, Schubkarren\, Müllgreifer\, Handschuhe und Eimer. Gummistiefel sind sicherlich das richtige Schuhwerk.\nDer Müll kann anschließend in Beuteln an zwei Stellen im Tal (Ecke Max-Halbach-Straße / Kolumbusstraße und vor den Bänken am Eingang zum Sportplatz am großen Teich)abgelegt werden. Die Stadt wird ihn am darauf folgenden Montag entsorgen. Wir würden uns sehr freuen\, wenn Sie die Siedlervereinigung bei ihrem Vorhaben tatkräftig unterstützen und wir Sie persönlich begrüßen könnten. Nach getaner Arbeit werden wir die Zeit finden\, bei einem kleinen Imbiss und Getränken Gespräche zu führen.
URL:https://svh1919.de/veranstaltungen/reinigung-der-siepentaeler-3/
LOCATION:Am Gänsereiterteich\, Gänsereiterteich\, Mülheim an der Ruhr\, 45472\, Deutschland
END:VEVENT
BEGIN:VEVENT
DTSTART;TZID=Europe/Berlin:20170325T190000
DTEND;TZID=Europe/Berlin:20170325T190000
DTSTAMP:20260424T081349
CREATED:20161229T191043Z
LAST-MODIFIED:20161229T191043Z
UID:956-1490468400-1490468400@svh1919.de
SUMMARY:Tanz im „Sierra Nevada“ mit der Band Sunset Music
DESCRIPTION:
URL:https://svh1919.de/veranstaltungen/tanz-im-sierra-nevada-mit-der-band-sunset-music/
LOCATION:Krug zur Heimaterde\, Kolumbusstraße 110\, Mülheim an der Ruhr\, 45472\, Deutschland
END:VEVENT
BEGIN:VEVENT
DTSTART;TZID=Europe/Berlin:20170331T192500
DTEND;TZID=Europe/Berlin:20170331T192500
DTSTAMP:20260424T081349
CREATED:20161229T191211Z
LAST-MODIFIED:20161229T191211Z
UID:957-1490988300-1490988300@svh1919.de
SUMMARY:Jahreshauptversammlung
DESCRIPTION:
URL:https://svh1919.de/veranstaltungen/jahreshauptversammlung-2/
LOCATION:Krug zur Heimaterde\, Kolumbusstraße 110\, Mülheim an der Ruhr\, 45472\, Deutschland
END:VEVENT
END:VCALENDAR