BEGIN:VCALENDAR
VERSION:2.0
PRODID:-//Siedlervereinigung Heimaterde e. V. 1919 - ECPv6.15.18//NONSGML v1.0//EN
CALSCALE:GREGORIAN
METHOD:PUBLISH
X-WR-CALNAME:Siedlervereinigung Heimaterde e. V. 1919
X-ORIGINAL-URL:https://svh1919.de
X-WR-CALDESC:Veranstaltungen für Siedlervereinigung Heimaterde e. V. 1919
REFRESH-INTERVAL;VALUE=DURATION:PT1H
X-Robots-Tag:noindex
X-PUBLISHED-TTL:PT1H
BEGIN:VTIMEZONE
TZID:Europe/Berlin
BEGIN:DAYLIGHT
TZOFFSETFROM:+0100
TZOFFSETTO:+0200
TZNAME:CEST
DTSTART:20160327T010000
END:DAYLIGHT
BEGIN:STANDARD
TZOFFSETFROM:+0200
TZOFFSETTO:+0100
TZNAME:CET
DTSTART:20161030T010000
END:STANDARD
BEGIN:DAYLIGHT
TZOFFSETFROM:+0100
TZOFFSETTO:+0200
TZNAME:CEST
DTSTART:20170326T010000
END:DAYLIGHT
BEGIN:STANDARD
TZOFFSETFROM:+0200
TZOFFSETTO:+0100
TZNAME:CET
DTSTART:20171029T010000
END:STANDARD
BEGIN:DAYLIGHT
TZOFFSETFROM:+0100
TZOFFSETTO:+0200
TZNAME:CEST
DTSTART:20180325T010000
END:DAYLIGHT
BEGIN:STANDARD
TZOFFSETFROM:+0200
TZOFFSETTO:+0100
TZNAME:CET
DTSTART:20181028T010000
END:STANDARD
END:VTIMEZONE
BEGIN:VEVENT
DTSTART;TZID=Europe/Berlin:20171101T103000
DTEND;TZID=Europe/Berlin:20171101T160000
DTSTAMP:20260423T213210
CREATED:20170630T051433Z
LAST-MODIFIED:20170701T143003Z
UID:1054-1509532200-1509552000@svh1919.de
SUMMARY:Chortag
DESCRIPTION:
URL:https://svh1919.de/veranstaltungen/chortag-3/
LOCATION:Krug zur Heimaterde\, Kolumbusstraße 110\, Mülheim an der Ruhr\, 45472\, Deutschland
END:VEVENT
BEGIN:VEVENT
DTSTART;TZID=Europe/Berlin:20171111T163000
DTEND;TZID=Europe/Berlin:20171111T163000
DTSTAMP:20260423T213210
CREATED:20170701T143121Z
LAST-MODIFIED:20170701T143121Z
UID:1056-1510417800-1510417800@svh1919.de
SUMMARY:Ökumenischer Martinszug
DESCRIPTION:
URL:https://svh1919.de/veranstaltungen/oekumenischer-martinszug-2/
LOCATION:Erlöserkirche\, Sunderplatz 4\, Mülheim an der Ruhr\, 45472\, Deutschland
END:VEVENT
BEGIN:VEVENT
DTSTART;TZID=Europe/Berlin:20171119T110000
DTEND;TZID=Europe/Berlin:20171119T110000
DTSTAMP:20260423T213210
CREATED:20170701T145836Z
LAST-MODIFIED:20170701T145836Z
UID:1058-1511089200-1511089200@svh1919.de
SUMMARY:Singen am Mahnmal in den Ruhranlagen
DESCRIPTION:
URL:https://svh1919.de/veranstaltungen/singen-am-mahnmal-in-den-ruhranlagen/
END:VEVENT
BEGIN:VEVENT
DTSTART;TZID=Europe/Berlin:20171126T150000
DTEND;TZID=Europe/Berlin:20171126T150000
DTSTAMP:20260423T213210
CREATED:20170701T150007Z
LAST-MODIFIED:20170701T150027Z
UID:1061-1511708400-1511708400@svh1919.de
SUMMARY:Singen auf dem Heißener Friedhof
DESCRIPTION:
URL:https://svh1919.de/veranstaltungen/singen-auf-dem-heissener-friedhof/
LOCATION:Heißener Friedhof\, Sunderweg 20\, Mülheim\, 45472
END:VEVENT
END:VCALENDAR