BEGIN:VCALENDAR
VERSION:2.0
PRODID:-//Siedlervereinigung Heimaterde e. V. 1919 - ECPv6.15.18//NONSGML v1.0//EN
CALSCALE:GREGORIAN
METHOD:PUBLISH
X-ORIGINAL-URL:https://svh1919.de
X-WR-CALDESC:Veranstaltungen für Siedlervereinigung Heimaterde e. V. 1919
REFRESH-INTERVAL;VALUE=DURATION:PT1H
X-Robots-Tag:noindex
X-PUBLISHED-TTL:PT1H
BEGIN:VTIMEZONE
TZID:Europe/Berlin
BEGIN:DAYLIGHT
TZOFFSETFROM:+0100
TZOFFSETTO:+0200
TZNAME:CEST
DTSTART:20170326T010000
END:DAYLIGHT
BEGIN:STANDARD
TZOFFSETFROM:+0200
TZOFFSETTO:+0100
TZNAME:CET
DTSTART:20171029T010000
END:STANDARD
BEGIN:DAYLIGHT
TZOFFSETFROM:+0100
TZOFFSETTO:+0200
TZNAME:CEST
DTSTART:20180325T010000
END:DAYLIGHT
BEGIN:STANDARD
TZOFFSETFROM:+0200
TZOFFSETTO:+0100
TZNAME:CET
DTSTART:20181028T010000
END:STANDARD
BEGIN:DAYLIGHT
TZOFFSETFROM:+0100
TZOFFSETTO:+0200
TZNAME:CEST
DTSTART:20190331T010000
END:DAYLIGHT
BEGIN:STANDARD
TZOFFSETFROM:+0200
TZOFFSETTO:+0100
TZNAME:CET
DTSTART:20191027T010000
END:STANDARD
END:VTIMEZONE
BEGIN:VEVENT
DTSTART;TZID=Europe/Berlin:20180315T190000
DTEND;TZID=Europe/Berlin:20180315T190000
DTSTAMP:20260423T154708
CREATED:20180111T193009Z
LAST-MODIFIED:20180111T193009Z
UID:1264-1521140400-1521140400@svh1919.de
SUMMARY:Jahreshauptversammlung
DESCRIPTION:
URL:https://svh1919.de/veranstaltungen/jahreshauptversammlung-3/
LOCATION:Krug zur Heimaterde\, Kolumbusstraße 110\, Mülheim an der Ruhr\, 45472\, Deutschland
END:VEVENT
BEGIN:VEVENT
DTSTART;TZID=Europe/Berlin:20180324T100000
DTEND;TZID=Europe/Berlin:20180324T100000
DTSTAMP:20260423T154708
CREATED:20180111T193129Z
LAST-MODIFIED:20180323T071822Z
UID:1266-1521885600-1521885600@svh1919.de
SUMMARY:Aufräumen in den Siepentälern
DESCRIPTION:die Siedlervereinigung Heimaterde beabsichtigt\, am Samstag\, dem 24. März 2018\, in den Siepentälern aufzuräumen. Wir laden Sie zum Mitmachen herzlich ein. Treffpunkt ist 10.00 Uhr am Gänsereiterteich. Wir denken\, mit 2 Stunden Arbeit auszukommen.\nFolgendes ist vorgesehen: \n\nEntfernung des Mülls aus dem Siepentälern Kolumbusstraße und Finkenkamp\nsowie an der Max-Halbach-Straße und rund um den Sportplatz\nBeseitigung der Verstopfungen im Lauf der Wackelsbeck\n\nDas Arbeitsgerät müssen wir selbst mitbringen. Benötigt werden Harken\, Schubkarren\, Müllgreifer\, Handschuhe und vor allem Eimer. Gummistiefel sind sicherlich das richtige\nSchuhwerk.\nWir werden den Müll in Eimern sammeln und dann mit Schubkarren in Müllsäcken an bestimmten Stellen deponieren. Die Stadt wird ihn am darauf folgenden Montag entsorgen.\nWir würden uns sehr freuen\, wenn Sie die Siedlervereinigung bei ihrem Vorhaben tatkräftig unterstützen und wir Sie persönlich begrüßen könnten. Nach getaner Arbeit werden wir die Zeit finden\, bei einem kleinen Imbiss und Getränken Gespräche zu führen.
URL:https://svh1919.de/veranstaltungen/aufraeumen-in-den-siepentaelern/
LOCATION:Am Gänsereiterteich\, Gänsereiterteich\, Mülheim an der Ruhr\, 45472\, Deutschland
END:VEVENT
BEGIN:VEVENT
DTSTART;TZID=Europe/Berlin:20180324T190000
DTEND;TZID=Europe/Berlin:20180324T190000
DTSTAMP:20260423T154708
CREATED:20180319T205949Z
LAST-MODIFIED:20180319T205949Z
UID:1300-1521918000-1521918000@svh1919.de
SUMMARY:Country-Music im „Sierra Nevada“
DESCRIPTION:
URL:https://svh1919.de/veranstaltungen/country-music-im-sierra-nevada/
LOCATION:Krug zur Heimaterde\, Kolumbusstraße 110\, Mülheim an der Ruhr\, 45472\, Deutschland
END:VEVENT
END:VCALENDAR