BEGIN:VCALENDAR
VERSION:2.0
PRODID:-//Siedlervereinigung Heimaterde e. V. 1919 - ECPv6.15.18//NONSGML v1.0//EN
CALSCALE:GREGORIAN
METHOD:PUBLISH
X-WR-CALNAME:Siedlervereinigung Heimaterde e. V. 1919
X-ORIGINAL-URL:https://svh1919.de
X-WR-CALDESC:Veranstaltungen für Siedlervereinigung Heimaterde e. V. 1919
REFRESH-INTERVAL;VALUE=DURATION:PT1H
X-Robots-Tag:noindex
X-PUBLISHED-TTL:PT1H
BEGIN:VTIMEZONE
TZID:Europe/Berlin
BEGIN:DAYLIGHT
TZOFFSETFROM:+0100
TZOFFSETTO:+0200
TZNAME:CEST
DTSTART:20170326T010000
END:DAYLIGHT
BEGIN:STANDARD
TZOFFSETFROM:+0200
TZOFFSETTO:+0100
TZNAME:CET
DTSTART:20171029T010000
END:STANDARD
BEGIN:DAYLIGHT
TZOFFSETFROM:+0100
TZOFFSETTO:+0200
TZNAME:CEST
DTSTART:20180325T010000
END:DAYLIGHT
BEGIN:STANDARD
TZOFFSETFROM:+0200
TZOFFSETTO:+0100
TZNAME:CET
DTSTART:20181028T010000
END:STANDARD
BEGIN:DAYLIGHT
TZOFFSETFROM:+0100
TZOFFSETTO:+0200
TZNAME:CEST
DTSTART:20190331T010000
END:DAYLIGHT
BEGIN:STANDARD
TZOFFSETFROM:+0200
TZOFFSETTO:+0100
TZNAME:CET
DTSTART:20191027T010000
END:STANDARD
END:VTIMEZONE
BEGIN:VEVENT
DTSTART;VALUE=DATE:20180403
DTEND;VALUE=DATE:20180407
DTSTAMP:20260423T142249
CREATED:20180319T210240Z
LAST-MODIFIED:20180319T210240Z
UID:1304-1522713600-1523059199@svh1919.de
SUMMARY:Fußballferiencamp
DESCRIPTION:täglich von 10 bis 16 Uhr
URL:https://svh1919.de/veranstaltungen/fussballferiencamp/
LOCATION:Naturstadion Finkenkamp\, Finkenkamp 125\, Mülheim an der Ruhr\, 45472\, Deutschland
END:VEVENT
BEGIN:VEVENT
DTSTART;VALUE=DATE:20180403
DTEND;VALUE=DATE:20180408
DTSTAMP:20260423T142249
CREATED:20180319T210113Z
LAST-MODIFIED:20180319T210113Z
UID:1302-1522713600-1523145599@svh1919.de
SUMMARY:Kinderbibelwoche
DESCRIPTION:täglich von 9 – 13 Uhr
URL:https://svh1919.de/veranstaltungen/kinderbibelwoche-3/
LOCATION:Erlöserkirche\, Sunderplatz 4\, Mülheim an der Ruhr\, 45472\, Deutschland
END:VEVENT
BEGIN:VEVENT
DTSTART;TZID=Europe/Berlin:20180428T110000
DTEND;TZID=Europe/Berlin:20180428T110000
DTSTAMP:20260423T142249
CREATED:20180427T132815Z
LAST-MODIFIED:20180427T132815Z
UID:1371-1524913200-1524913200@svh1919.de
SUMMARY:81. Stadtteilrundgang
DESCRIPTION:die SPD in Heißen und auf der Heimaterde lädt Sie herzlich zu ihrem 81. Stadtteil-rundgang ein. Wir treffen uns am Samstag\, 28. April\, 11 Uhr\, an der Max-Halbach-Straße 64.\nIhr Gastgeber an diesem Tag ist Ihr Stadtverordneter Claus Schindler. Wir freuen uns auf das persönliche Gespräch! \nTREFFPUNKT: Max-Halbach-Straße 64 \nVon dort geht es so weiter…\nKleiststraße (Nr. 107-137)\,\nNollendorfstraße\,\nBuschkante\,\nMax-Halbach-Straße\,\nBromersfeld\,\nGinsterweg\,\nKleiststraße (92-102).\nVon dort aus geht es zurück zum Ausgangspunkt.
URL:https://svh1919.de/veranstaltungen/81-stadtteilrundgang/
END:VEVENT
BEGIN:VEVENT
DTSTART;TZID=Europe/Berlin:20180430T190000
DTEND;TZID=Europe/Berlin:20180430T190000
DTSTAMP:20260423T142249
CREATED:20180319T210427Z
LAST-MODIFIED:20180319T210427Z
UID:1306-1525114800-1525114800@svh1919.de
SUMMARY:Tanz in den Mai im „Sierra Nevada“
DESCRIPTION:es spielt „die Musikakademie“
URL:https://svh1919.de/veranstaltungen/tanz-in-den-mai-im-sierra-nevada/
LOCATION:Krug zur Heimaterde\, Kolumbusstraße 110\, Mülheim an der Ruhr\, 45472\, Deutschland
END:VEVENT
END:VCALENDAR