BEGIN:VCALENDAR
VERSION:2.0
PRODID:-//Siedlervereinigung Heimaterde e. V. 1919 - ECPv6.15.18//NONSGML v1.0//EN
CALSCALE:GREGORIAN
METHOD:PUBLISH
X-WR-CALNAME:Siedlervereinigung Heimaterde e. V. 1919
X-ORIGINAL-URL:https://svh1919.de
X-WR-CALDESC:Veranstaltungen für Siedlervereinigung Heimaterde e. V. 1919
REFRESH-INTERVAL;VALUE=DURATION:PT1H
X-Robots-Tag:noindex
X-PUBLISHED-TTL:PT1H
BEGIN:VTIMEZONE
TZID:Europe/Berlin
BEGIN:DAYLIGHT
TZOFFSETFROM:+0100
TZOFFSETTO:+0200
TZNAME:CEST
DTSTART:20170326T010000
END:DAYLIGHT
BEGIN:STANDARD
TZOFFSETFROM:+0200
TZOFFSETTO:+0100
TZNAME:CET
DTSTART:20171029T010000
END:STANDARD
BEGIN:DAYLIGHT
TZOFFSETFROM:+0100
TZOFFSETTO:+0200
TZNAME:CEST
DTSTART:20180325T010000
END:DAYLIGHT
BEGIN:STANDARD
TZOFFSETFROM:+0200
TZOFFSETTO:+0100
TZNAME:CET
DTSTART:20181028T010000
END:STANDARD
BEGIN:DAYLIGHT
TZOFFSETFROM:+0100
TZOFFSETTO:+0200
TZNAME:CEST
DTSTART:20190331T010000
END:DAYLIGHT
BEGIN:STANDARD
TZOFFSETFROM:+0200
TZOFFSETTO:+0100
TZNAME:CET
DTSTART:20191027T010000
END:STANDARD
END:VTIMEZONE
BEGIN:VEVENT
DTSTART;TZID=Europe/Berlin:20181101T110000
DTEND;TZID=Europe/Berlin:20181101T160000
DTSTAMP:20260423T052555
CREATED:20180730T185646Z
LAST-MODIFIED:20180730T185646Z
UID:1553-1541070000-1541088000@svh1919.de
SUMMARY:Chortag
DESCRIPTION:
URL:https://svh1919.de/veranstaltungen/chortag-4/
LOCATION:Krug zur Heimaterde\, Kolumbusstraße 110\, Mülheim an der Ruhr\, 45472\, Deutschland
END:VEVENT
BEGIN:VEVENT
DTSTART;TZID=Europe/Berlin:20181103T183000
DTEND;TZID=Europe/Berlin:20181103T183000
DTSTAMP:20260423T052555
CREATED:20180730T185824Z
LAST-MODIFIED:20180730T185824Z
UID:1555-1541269800-1541269800@svh1919.de
SUMMARY:Abschiedskonzert des MGV
DESCRIPTION:
URL:https://svh1919.de/veranstaltungen/abschiedskonzert-des-mgv/
LOCATION:Theresiensaal\, Max-Halbach-Straße 65\, Mülheim\, 45472\, Deutschland
END:VEVENT
BEGIN:VEVENT
DTSTART;TZID=Europe/Berlin:20181110T163000
DTEND;TZID=Europe/Berlin:20181110T163000
DTSTAMP:20260423T052555
CREATED:20180730T185941Z
LAST-MODIFIED:20180730T185941Z
UID:1557-1541867400-1541867400@svh1919.de
SUMMARY:Ökumenischer Martinszug
DESCRIPTION:
URL:https://svh1919.de/veranstaltungen/oekumenischer-martinszug-3/
LOCATION:Erlöserkirche\, Sunderplatz 4\, Mülheim an der Ruhr\, 45472\, Deutschland
END:VEVENT
BEGIN:VEVENT
DTSTART;TZID=Europe/Berlin:20181124T190000
DTEND;TZID=Europe/Berlin:20181124T190000
DTSTAMP:20260423T052555
CREATED:20180730T190058Z
LAST-MODIFIED:20180730T190058Z
UID:1559-1543086000-1543086000@svh1919.de
SUMMARY:Tanz im Sierra Nevada
DESCRIPTION:
URL:https://svh1919.de/veranstaltungen/tanz-im-sierra-nevada/
LOCATION:Krug zur Heimaterde\, Kolumbusstraße 110\, Mülheim an der Ruhr\, 45472\, Deutschland
END:VEVENT
BEGIN:VEVENT
DTSTART;TZID=Europe/Berlin:20181125T150000
DTEND;TZID=Europe/Berlin:20181125T150000
DTSTAMP:20260423T052555
CREATED:20180730T190252Z
LAST-MODIFIED:20180730T190252Z
UID:1561-1543158000-1543158000@svh1919.de
SUMMARY:Singen auf dem Heißener Friedhof
DESCRIPTION:
URL:https://svh1919.de/veranstaltungen/singen-auf-dem-heissener-friedhof-2/
LOCATION:Heißener Friedhof\, Sunderweg 20\, Mülheim\, 45472
END:VEVENT
END:VCALENDAR