BEGIN:VCALENDAR
VERSION:2.0
PRODID:-//Siedlervereinigung Heimaterde e. V. 1919 - ECPv6.15.18//NONSGML v1.0//EN
CALSCALE:GREGORIAN
METHOD:PUBLISH
X-WR-CALNAME:Siedlervereinigung Heimaterde e. V. 1919
X-ORIGINAL-URL:https://svh1919.de
X-WR-CALDESC:Veranstaltungen für Siedlervereinigung Heimaterde e. V. 1919
REFRESH-INTERVAL;VALUE=DURATION:PT1H
X-Robots-Tag:noindex
X-PUBLISHED-TTL:PT1H
BEGIN:VTIMEZONE
TZID:Europe/Berlin
BEGIN:DAYLIGHT
TZOFFSETFROM:+0100
TZOFFSETTO:+0200
TZNAME:CEST
DTSTART:20170326T010000
END:DAYLIGHT
BEGIN:STANDARD
TZOFFSETFROM:+0200
TZOFFSETTO:+0100
TZNAME:CET
DTSTART:20171029T010000
END:STANDARD
BEGIN:DAYLIGHT
TZOFFSETFROM:+0100
TZOFFSETTO:+0200
TZNAME:CEST
DTSTART:20180325T010000
END:DAYLIGHT
BEGIN:STANDARD
TZOFFSETFROM:+0200
TZOFFSETTO:+0100
TZNAME:CET
DTSTART:20181028T010000
END:STANDARD
BEGIN:DAYLIGHT
TZOFFSETFROM:+0100
TZOFFSETTO:+0200
TZNAME:CEST
DTSTART:20190331T010000
END:DAYLIGHT
BEGIN:STANDARD
TZOFFSETFROM:+0200
TZOFFSETTO:+0100
TZNAME:CET
DTSTART:20191027T010000
END:STANDARD
END:VTIMEZONE
BEGIN:VEVENT
DTSTART;TZID=Europe/Berlin:20181203T160000
DTEND;TZID=Europe/Berlin:20181203T160000
DTSTAMP:20260423T035942
CREATED:20180730T190421Z
LAST-MODIFIED:20180730T190421Z
UID:1563-1543852800-1543852800@svh1919.de
SUMMARY:Seniorenfest
DESCRIPTION:
URL:https://svh1919.de/veranstaltungen/seniorenfest-4/
LOCATION:Krug zur Heimaterde\, Kolumbusstraße 110\, Mülheim an der Ruhr\, 45472\, Deutschland
END:VEVENT
BEGIN:VEVENT
DTSTART;TZID=Europe/Berlin:20181218T180000
DTEND;TZID=Europe/Berlin:20181218T180000
DTSTAMP:20260423T035942
CREATED:20180730T190531Z
LAST-MODIFIED:20180730T190531Z
UID:1565-1545156000-1545156000@svh1919.de
SUMMARY:Weihnachtsfeier
DESCRIPTION:
URL:https://svh1919.de/veranstaltungen/weihnachtsfeier-3/
LOCATION:Krug zur Heimaterde\, Kolumbusstraße 110\, Mülheim an der Ruhr\, 45472\, Deutschland
END:VEVENT
BEGIN:VEVENT
DTSTART;TZID=Europe/Berlin:20181231T190000
DTEND;TZID=Europe/Berlin:20181231T190000
DTSTAMP:20260423T035942
CREATED:20180730T190625Z
LAST-MODIFIED:20180730T190641Z
UID:1567-1546282800-1546282800@svh1919.de
SUMMARY:Sylvester im Sierra Nevada
DESCRIPTION:
URL:https://svh1919.de/veranstaltungen/sylvester-im-sierra-nevada/
LOCATION:Krug zur Heimaterde\, Kolumbusstraße 110\, Mülheim an der Ruhr\, 45472\, Deutschland
END:VEVENT
END:VCALENDAR