BEGIN:VCALENDAR
VERSION:2.0
PRODID:-//Siedlervereinigung Heimaterde e. V. 1919 - ECPv6.15.18//NONSGML v1.0//EN
CALSCALE:GREGORIAN
METHOD:PUBLISH
X-ORIGINAL-URL:https://svh1919.de
X-WR-CALDESC:Veranstaltungen für Siedlervereinigung Heimaterde e. V. 1919
REFRESH-INTERVAL;VALUE=DURATION:PT1H
X-Robots-Tag:noindex
X-PUBLISHED-TTL:PT1H
BEGIN:VTIMEZONE
TZID:Europe/Berlin
BEGIN:DAYLIGHT
TZOFFSETFROM:+0100
TZOFFSETTO:+0200
TZNAME:CEST
DTSTART:20180325T010000
END:DAYLIGHT
BEGIN:STANDARD
TZOFFSETFROM:+0200
TZOFFSETTO:+0100
TZNAME:CET
DTSTART:20181028T010000
END:STANDARD
BEGIN:DAYLIGHT
TZOFFSETFROM:+0100
TZOFFSETTO:+0200
TZNAME:CEST
DTSTART:20190331T010000
END:DAYLIGHT
BEGIN:STANDARD
TZOFFSETFROM:+0200
TZOFFSETTO:+0100
TZNAME:CET
DTSTART:20191027T010000
END:STANDARD
BEGIN:DAYLIGHT
TZOFFSETFROM:+0100
TZOFFSETTO:+0200
TZNAME:CEST
DTSTART:20200329T010000
END:DAYLIGHT
BEGIN:STANDARD
TZOFFSETFROM:+0200
TZOFFSETTO:+0100
TZNAME:CET
DTSTART:20201025T010000
END:STANDARD
END:VTIMEZONE
BEGIN:VEVENT
DTSTART;TZID=Europe/Berlin:20190415T100000
DTEND;TZID=Europe/Berlin:20190418T150000
DTSTAMP:20260422T225128
CREATED:20190106T190312Z
LAST-MODIFIED:20190106T190312Z
UID:1884-1555322400-1555599600@svh1919.de
SUMMARY:Fußballcamp (5 -16 Jahre)
DESCRIPTION:
URL:https://svh1919.de/veranstaltungen/fussballcamp-5-16-jahre/
LOCATION:Naturstadion Finkenkamp\, Finkenkamp 125\, Mülheim an der Ruhr\, 45472\, Deutschland
END:VEVENT
BEGIN:VEVENT
DTSTART;TZID=Europe/Berlin:20190420T230000
DTEND;TZID=Europe/Berlin:20190420T230000
DTSTAMP:20260422T225128
CREATED:20190106T190421Z
LAST-MODIFIED:20190106T190421Z
UID:1886-1555801200-1555801200@svh1919.de
SUMMARY:Osternacht mit Osterfeuer
DESCRIPTION:
URL:https://svh1919.de/veranstaltungen/osternacht-mit-osterfeuer-2/
LOCATION:Erlöserkirche\, Sunderplatz 4\, Mülheim an der Ruhr\, 45472\, Deutschland
END:VEVENT
BEGIN:VEVENT
DTSTART;VALUE=DATE:20190423
DTEND;VALUE=DATE:20190429
DTSTAMP:20260422T225128
CREATED:20190106T190518Z
LAST-MODIFIED:20190106T190518Z
UID:1888-1555977600-1556495999@svh1919.de
SUMMARY:Kinderbibelwoche
DESCRIPTION:
URL:https://svh1919.de/veranstaltungen/kinderbibelwoche-4/
LOCATION:Erlöserkirche\, Sunderplatz 4\, Mülheim an der Ruhr\, 45472\, Deutschland
END:VEVENT
BEGIN:VEVENT
DTSTART;TZID=Europe/Berlin:20190430T190000
DTEND;TZID=Europe/Berlin:20190430T190000
DTSTAMP:20260422T225128
CREATED:20190106T190626Z
LAST-MODIFIED:20190106T190626Z
UID:1890-1556650800-1556650800@svh1919.de
SUMMARY:Tanz in den Mai im Sierra Nevada I Gemelli
DESCRIPTION:
URL:https://svh1919.de/veranstaltungen/tanz-in-den-mai-im-sierra-nevada-i-gemelli/
LOCATION:Krug zur Heimaterde\, Kolumbusstraße 110\, Mülheim an der Ruhr\, 45472\, Deutschland
END:VEVENT
END:VCALENDAR