BEGIN:VCALENDAR
VERSION:2.0
PRODID:-//Siedlervereinigung Heimaterde e. V. 1919 - ECPv6.15.18//NONSGML v1.0//EN
CALSCALE:GREGORIAN
METHOD:PUBLISH
X-WR-CALNAME:Siedlervereinigung Heimaterde e. V. 1919
X-ORIGINAL-URL:https://svh1919.de
X-WR-CALDESC:Veranstaltungen für Siedlervereinigung Heimaterde e. V. 1919
REFRESH-INTERVAL;VALUE=DURATION:PT1H
X-Robots-Tag:noindex
X-PUBLISHED-TTL:PT1H
BEGIN:VTIMEZONE
TZID:Europe/Berlin
BEGIN:DAYLIGHT
TZOFFSETFROM:+0100
TZOFFSETTO:+0200
TZNAME:CEST
DTSTART:20180325T010000
END:DAYLIGHT
BEGIN:STANDARD
TZOFFSETFROM:+0200
TZOFFSETTO:+0100
TZNAME:CET
DTSTART:20181028T010000
END:STANDARD
BEGIN:DAYLIGHT
TZOFFSETFROM:+0100
TZOFFSETTO:+0200
TZNAME:CEST
DTSTART:20190331T010000
END:DAYLIGHT
BEGIN:STANDARD
TZOFFSETFROM:+0200
TZOFFSETTO:+0100
TZNAME:CET
DTSTART:20191027T010000
END:STANDARD
BEGIN:DAYLIGHT
TZOFFSETFROM:+0100
TZOFFSETTO:+0200
TZNAME:CEST
DTSTART:20200329T010000
END:DAYLIGHT
BEGIN:STANDARD
TZOFFSETFROM:+0200
TZOFFSETTO:+0100
TZNAME:CET
DTSTART:20201025T010000
END:STANDARD
END:VTIMEZONE
BEGIN:VEVENT
DTSTART;VALUE=DATE:20190907
DTEND;VALUE=DATE:20190909
DTSTAMP:20260422T161057
CREATED:20190714T174702Z
LAST-MODIFIED:20190714T174702Z
UID:2090-1567814400-1567987199@svh1919.de
SUMMARY:Kinderfest mit Festzug
DESCRIPTION:
URL:https://svh1919.de/veranstaltungen/kinderfest-mit-festzug-3/
LOCATION:Festplatz an der Kleiststraße\, Kleiststr. 91\, Mülheim\, 45472\, Deutschland
END:VEVENT
BEGIN:VEVENT
DTSTART;VALUE=DATE:20190914
DTEND;VALUE=DATE:20190915
DTSTAMP:20260422T161057
CREATED:20190729T095348Z
LAST-MODIFIED:20190729T095348Z
UID:2120-1568419200-1568505599@svh1919.de
SUMMARY:2. Hoftrödel auf der Heimaterde
DESCRIPTION:Alle Infos zum Hoftrödel hier!
URL:https://svh1919.de/veranstaltungen/2-hoftroedel-auf-der-heimaterde/
END:VEVENT
BEGIN:VEVENT
DTSTART;TZID=Europe/Berlin:20190920T190000
DTEND;TZID=Europe/Berlin:20190920T190000
DTSTAMP:20260422T161057
CREATED:20190714T174806Z
LAST-MODIFIED:20190714T174806Z
UID:2092-1569006000-1569006000@svh1919.de
SUMMARY:Tanz im Sierra Nevada mit The Fellows
DESCRIPTION:
URL:https://svh1919.de/veranstaltungen/tanz-im-sierra-nevada-mit-the-fellows/
LOCATION:Krug zur Heimaterde\, Kolumbusstraße 110\, Mülheim an der Ruhr\, 45472\, Deutschland
END:VEVENT
END:VCALENDAR