BEGIN:VCALENDAR
VERSION:2.0
PRODID:-//Siedlervereinigung Heimaterde e. V. 1919 - ECPv6.15.18//NONSGML v1.0//EN
CALSCALE:GREGORIAN
METHOD:PUBLISH
X-ORIGINAL-URL:https://svh1919.de
X-WR-CALDESC:Veranstaltungen für Siedlervereinigung Heimaterde e. V. 1919
REFRESH-INTERVAL;VALUE=DURATION:PT1H
X-Robots-Tag:noindex
X-PUBLISHED-TTL:PT1H
BEGIN:VTIMEZONE
TZID:Europe/Berlin
BEGIN:DAYLIGHT
TZOFFSETFROM:+0100
TZOFFSETTO:+0200
TZNAME:CEST
DTSTART:20180325T010000
END:DAYLIGHT
BEGIN:STANDARD
TZOFFSETFROM:+0200
TZOFFSETTO:+0100
TZNAME:CET
DTSTART:20181028T010000
END:STANDARD
BEGIN:DAYLIGHT
TZOFFSETFROM:+0100
TZOFFSETTO:+0200
TZNAME:CEST
DTSTART:20190331T010000
END:DAYLIGHT
BEGIN:STANDARD
TZOFFSETFROM:+0200
TZOFFSETTO:+0100
TZNAME:CET
DTSTART:20191027T010000
END:STANDARD
BEGIN:DAYLIGHT
TZOFFSETFROM:+0100
TZOFFSETTO:+0200
TZNAME:CEST
DTSTART:20200329T010000
END:DAYLIGHT
BEGIN:STANDARD
TZOFFSETFROM:+0200
TZOFFSETTO:+0100
TZNAME:CET
DTSTART:20201025T010000
END:STANDARD
END:VTIMEZONE
BEGIN:VEVENT
DTSTART;TZID=Europe/Berlin:20191109T163000
DTEND;TZID=Europe/Berlin:20191109T163000
DTSTAMP:20260422T132758
CREATED:20190714T175325Z
LAST-MODIFIED:20190714T175325Z
UID:2100-1573317000-1573317000@svh1919.de
SUMMARY:Ökumenischer Martinszug
DESCRIPTION:
URL:https://svh1919.de/veranstaltungen/oekumenischer-martinszug-4/
LOCATION:Erlöserkirche\, Sunderplatz 4\, Mülheim an der Ruhr\, 45472\, Deutschland
END:VEVENT
BEGIN:VEVENT
DTSTART;TZID=Europe/Berlin:20191130T190000
DTEND;TZID=Europe/Berlin:20191130T190000
DTSTAMP:20260422T132758
CREATED:20191127T065608Z
LAST-MODIFIED:20191127T065608Z
UID:2160-1575140400-1575140400@svh1919.de
SUMMARY:Tanz im Sierra Nevada Krug zur Heimaterde
DESCRIPTION:Es spielt die Gruppe LOFX
URL:https://svh1919.de/veranstaltungen/tanz-im-sierra-nevada-krug-zur-heimaterde/
LOCATION:Krug zur Heimaterde\, Kolumbusstraße 110\, Mülheim an der Ruhr\, 45472\, Deutschland
END:VEVENT
END:VCALENDAR