BEGIN:VCALENDAR
VERSION:2.0
PRODID:-//Siedlervereinigung Heimaterde e. V. 1919 - ECPv6.15.18//NONSGML v1.0//EN
CALSCALE:GREGORIAN
METHOD:PUBLISH
X-WR-CALNAME:Siedlervereinigung Heimaterde e. V. 1919
X-ORIGINAL-URL:https://svh1919.de
X-WR-CALDESC:Veranstaltungen für Siedlervereinigung Heimaterde e. V. 1919
REFRESH-INTERVAL;VALUE=DURATION:PT1H
X-Robots-Tag:noindex
X-PUBLISHED-TTL:PT1H
BEGIN:VTIMEZONE
TZID:Europe/Berlin
BEGIN:DAYLIGHT
TZOFFSETFROM:+0100
TZOFFSETTO:+0200
TZNAME:CEST
DTSTART:20180325T010000
END:DAYLIGHT
BEGIN:STANDARD
TZOFFSETFROM:+0200
TZOFFSETTO:+0100
TZNAME:CET
DTSTART:20181028T010000
END:STANDARD
BEGIN:DAYLIGHT
TZOFFSETFROM:+0100
TZOFFSETTO:+0200
TZNAME:CEST
DTSTART:20190331T010000
END:DAYLIGHT
BEGIN:STANDARD
TZOFFSETFROM:+0200
TZOFFSETTO:+0100
TZNAME:CET
DTSTART:20191027T010000
END:STANDARD
BEGIN:DAYLIGHT
TZOFFSETFROM:+0100
TZOFFSETTO:+0200
TZNAME:CEST
DTSTART:20200329T010000
END:DAYLIGHT
BEGIN:STANDARD
TZOFFSETFROM:+0200
TZOFFSETTO:+0100
TZNAME:CET
DTSTART:20201025T010000
END:STANDARD
END:VTIMEZONE
BEGIN:VEVENT
DTSTART;TZID=Europe/Berlin:20191201T110000
DTEND;TZID=Europe/Berlin:20191201T110000
DTSTAMP:20260422T121340
CREATED:20191127T065755Z
LAST-MODIFIED:20191127T065843Z
UID:2162-1575198000-1575198000@svh1919.de
SUMMARY:100 Jahre Siedlervereinigung Heimaterde Skiffelfrühschoppen
DESCRIPTION:Die Siedlervereinigung Heimaterde 1919 e.V. wurde in diesem Jahr 100 Jahre jung. Aus diesem Grunde wollen wir mit den Heimaterdlern feiern. \nWir zeigen Ihnen alte Fotos aus der Heimaterde bei Skiffelmusik der Speckbäuche und Spargelstampfer. \nÜber Ihren Besuch würden wir uns sehr freuen.
URL:https://svh1919.de/veranstaltungen/100-jahre-siedlervereinigung-heimaterde/
LOCATION:Krug zur Heimaterde\, Kolumbusstraße 110\, Mülheim an der Ruhr\, 45472\, Deutschland
END:VEVENT
BEGIN:VEVENT
DTSTART;TZID=Europe/Berlin:20191201T160000
DTEND;TZID=Europe/Berlin:20191201T190000
DTSTAMP:20260422T121340
CREATED:20191127T070240Z
LAST-MODIFIED:20191127T070240Z
UID:2165-1575216000-1575226800@svh1919.de
SUMMARY:Seniorenfest
DESCRIPTION:Das Seniorenfest und die Jubiläumsfeier gehen nahtlos ineinander über. Wir sind sehr daran interessiert\, im Vorhinein die Teilnehmerzahl für diese Veranstaltungen zu kennen.\nDeshalb haben wir entschieden\, Eintrittskarten in Höhe von 8\,00 € pro Person zu verkaufen. Mit dem Krug-Wirt ist vereinbart\, dass Sie 5\,00 € mit Ihrer persönlichen Zeche gegen Abgabe der Eintrittskarte verrechnen können.\nDa insgesamt nur 130 Karten für das Seniorenfest / Jubiläumsfeier in den Verkauf gelangen\, ist es sinnvoll\, vom Vorverkaufsangebot Gebrauch zu machen. Die Karten können auf der Geschäftsstelle an Dienstagen während unserer Sprechstunden erworben werden.
URL:https://svh1919.de/veranstaltungen/seniorenfest-5/
LOCATION:Krug zur Heimaterde\, Kolumbusstraße 110\, Mülheim an der Ruhr\, 45472\, Deutschland
END:VEVENT
END:VCALENDAR